BEGIN:VCALENDAR
VERSION:2.0
PRODID:-//hacksw/handcal//NONSGML v1.0//EN
CALSCALE:GREGORIAN
BEGIN:VEVENT
UID:69e56631d289b
SEQUENCE:0
DESCRIPTION:〈チケット機能・クレジット決済・お連れ様機能〉
DTSTART:20301202T033000Z
DTEND:20301202T090000Z
SUMMARY:社内行事サンプル | 賀詞交歓会〈チケット機能・クレジット決済・お連れ様機能〉
LOCATION:イーベホテル 6F 『良の間』
URL:https://www.event-form.jp/event/25803/companyNewYear
DTSTAMP:20260420T083305Z
END:VEVENT
END:VCALENDAR