BEGIN:VCALENDAR
VERSION:2.0
PRODID:-//hacksw/handcal//NONSGML v1.0//EN
CALSCALE:GREGORIAN
BEGIN:VEVENT
UID:69e5b08ca5337
SEQUENCE:0
DESCRIPTION:社内行事サンプル | ファミリーセール〈複数の日時から選択・人数制限・QR受付〉
DTSTART:20301202T033000Z
DTEND:20301202T090000Z
SUMMARY:社内行事サンプル | ファミリーセール〈複数の日時から選択・人数制限・QR受付〉
LOCATION:
URL:https://www.event-form.jp/event/26506/familysale
DTSTAMP:20260420T135020Z
END:VEVENT
END:VCALENDAR