BEGIN:VCALENDAR
VERSION:2.0
PRODID:-//hacksw/handcal//NONSGML v1.0//EN
CALSCALE:GREGORIAN
BEGIN:VEVENT
UID:69e5250e66cc5
SEQUENCE:0
DESCRIPTION:□△◯ 株式会社 CEO ◯□△氏が語る、これからのビジネス
DTSTART:20301202T033000Z
DTEND:20301202T090000Z
SUMMARY:サンプル | ◯□△氏 特別講演〈会場開催セミナー〉 | イーベ！
LOCATION:株式会社フラッグ システム 会議室
URL:https://www.event-form.jp/event/6364/BvQM
DTSTAMP:20260420T035510Z
END:VEVENT
END:VCALENDAR