BEGIN:VCALENDAR
VERSION:2.0
PRODID:-//hacksw/handcal//NONSGML v1.0//EN
CALSCALE:GREGORIAN
BEGIN:VEVENT
UID:69e63ee42a8fb
SEQUENCE:0
DESCRIPTION:サメ好きデザイナーさかたようこのサメ柄便箋。お徳用。
DTSTART:20500514T073000Z
DTEND:20500514T075000Z
SUMMARY:【サンプルページ〈物販編〉】徳用 サメ便箋 30枚入り
LOCATION:
URL:https://www.event-form.jp/event/8881/Jzuu
DTSTAMP:20260420T235740Z
END:VEVENT
END:VCALENDAR