BEGIN:VCALENDAR
VERSION:2.0
PRODID:-//hacksw/handcal//NONSGML v1.0//EN
CALSCALE:GREGORIAN
BEGIN:VEVENT
UID:69e8dafc9cf0d
SEQUENCE:0
DESCRIPTION:テストイベント
DTSTART:20221231T020500Z
DTEND:20221231T030500Z
SUMMARY:テストイベント
LOCATION:
URL:https://www.event-form.jp/event/9055/EuJJ2sRmir
DTSTAMP:20260422T232812Z
END:VEVENT
END:VCALENDAR